Workbook

Sheet Poids
A1: Matériel envoi enveloppe (carte de visite, carte remerciement | B1: 98
H2: Moins de 250 g Enveloppe
H3: Entre 251 et 500g Enveloppe
H4: Entre 251 et 500g Carton
B5: Poids | C5: Total | E5: 2 articles
A6: Tote bag jaune | B6: 128 | C6: =B1+B6 -> 226
A7: Tote bag ivoire | B7: 176 | C7: =B1+B7 -> 274
A8: Tote bag rose | B8: 143 | C8: =B1+B8 -> 241
A9: Trousse bleue | B9: 152 | C9: =B9+B1 -> 250
A10: Trousse grise | B10: 142 | C10: =B1+B10 -> 240
A11: Brassière pour bébé | B11: 154 | C11: Plus de 250 g
A12: Jupe plissée | B12: 184 | C12: =B12+B1 -> 282
A13: Sets de table | B13: 215 | C13: =B13+B1 -> 313
A14: Pochette | B14: 165 | C14: =B14+B13 -> 380

Sheet De 101 à 250g
A1: La Poste | B1: =HYPERLINK("https://www.laposte.fr/particulier/outils/calculateur-de-tarif/nature","Calculateur de prix") -> Calculateur de prix
B2: =HYPERLINK("https://www.prixdutimbre.fr/tarifs-postaux-affranchissement-la-poste/","Tarifs 2017") -> Tarifs 2017
B5: Lettre suivie 1 article suivi sans signature | C5: Ajouter 1 article | D5: Total 2 articles (entre 251g et 500g) | E5: Vérification | F5: Suclassement livraison express (1 à 3 jours) sans assurance | G5: Prix du surclassement Signature | H5: Ajouter pour le surclassement (1 article) | I5: Commentaire | J5: 2 produits avec signature Ajouter : | K5: Total signature 2 articles (entre 251 et 500g) | L5: Vérification | M5: Ajouter pour le surclassement (2 articles = plus de 251g)
A6: France | B6: 3.32 | C6: ='De 251 à 500g'!B6-B6 -> 1.46 | D6: =SUM(B6,C6) -> 4.78 | E6: ='De 251 à 500g'!B6 -> 4.78 | F6: 40 | G6: 7.3 | H6: =G6-B6 -> 3.98 | I6: Lettre recommandée avec AR | J6: ='De 251 à 500g'!D6-G6 -> 1.05 | K6: =G6+J6 -> 8.35 | L6: ='De 251 à 500g'!D6 -> 8.35 | M6: ='De 251 à 500g'!D6-G6 -> 1.05
A7: UE | B7: 8.7 | C7: ='De 251 à 500g'!B7-B7 -> 3.3 | D7: =SUM(B7,C7) -> 12 | E7: ='De 251 à 500g'!B7 -> 12 | F7: 99.4 | G7: 12.55 | H7: =G7-B7 -> 3.85 | I7: Lettre recommandée avec AR | J7: ='De 251 à 500g'!D7-G7 -> 2 | K7: =G7+J7 -> 14.55 | L7: ='De 251 à 500g'!D7 -> 14.55 | M7: ='De 251 à 500g'!D7-G7 -> 2
A8: Europe hors UE | B8: 9.7 | C8: ='De 251 à 500g'!B8-B8 -> 3.9 | D8: =SUM(B8,C8) -> 13.6 | E8: ='De 251 à 500g'!B8 -> 13.6 | F8: 77.08 | G8: 12.55 | H8: =G8-B8 -> 2.85 | I8: Lettre recommandée avec AR | J8: ='De 251 à 500g'!D8-G8 -> 3.05 | K8: =G8+J8 -> 15.6 | L8: ='De 251 à 500g'!D8 -> 15.6 | M8: ='De 251 à 500g'!D8-G8 -> 3.05
A9: International | B9: 9.7 | C9: ='De 251 à 500g'!B9-B9 -> 3.9 | D9: =SUM(B9,C9) -> 13.6 | E9: ='De 251 à 500g'!B9 -> 13.6 | F9: 104.86 | G9: 12.55 | H9: =G9-B9 -> 2.85 | I9: Lettre recommandée avec AR | J9: ='De 251 à 500g'!D9-G9 -> 3.05 | K9: =G9+J9 -> 15.6 | L9: ='De 251 à 500g'!D9 -> 15.6 | M9: ='De 251 à 500g'!D9-G9 -> 3.05

Sheet De 251 à 500g
A1: La Poste | B1: =HYPERLINK("https://www.laposte.fr/particulier/outils/calculateur-de-tarif/nature","Calculateur de prix") -> Calculateur de prix
B2: =HYPERLINK("https://www.prixdutimbre.fr/tarifs-postaux-affranchissement-la-poste/","Tarifs 2017") -> Tarifs 2017
B5: Lettre suivie 1 article suivi sans signature | C5: Suclassement livraison express (1 à 3 jours) sans assurance | D5: Prix du surclassement Signature | E5: Commentaire | F5: Ajouter pour le surclassement
A6: France | B6: 4.78 | C6: 40 | D6: 8.35 | E6: Lettre recommandée avec AR | F6: =D6-B6 -> 3.57
A7: UE | B7: 12 | C7: 99.4 | D7: 14.55 | E7: Lettre recommandée avec AR | F7: =D7-B7 -> 2.55
A8: Europe hors UE | B8: 13.6 | C8: 77.08 | D8: 15.6 | E8: Lettre recommandée avec AR | F8: =D8-B8 -> 2
A9: International | B9: 13.6 | C9: 104.86 | D9: 15.6 | E9: Lettre recommandée avec AR | F9: =D9-B9 -> 2

Sheet De 251g à 500g
A1: Colis jusqu'à 30 kg | C1: Colis colissimo contre signature avec AR jusqu'à 30 kg
B6: Colis suivi 1 article suivi avec signature
A7: France | B7: 6.1
A8: UE | B8: 13.45
A9: Europe hors UE | B9: 17.5
A10: International | B10: 25
