Workbook

Sheet Général
B3: Octobre | C3: Novembre | D3: Décembre | E3: Janvier | F3: Février | G3: Mars | H3: Avril | I3: Mai | J3: Juin | K3: Juillet
A4: Administration | B4: Fiches sur les épreuves 12/10 : Inscription | C4: 23/11 : Date limite envoi du dossier | E4: Inscription Technique des détails CMA du 8 au 24 janvier | J4: Epreuves | K4: Résultats
A5: Entraînement | C5: Chemise (sur mesure) | D5: Ernest de RDC | E5: Jupe longue asymétrique à volants (dp studio) | F5: Annales EP1 Jupe Frankie (RDC) | G5: Annales EP1 Emma (Coralie Bijasson) | H5: Annales EP1 Relecture des fiches Liquette à fronces et à plis (dp studio) | I5: Annales EP1 et PSE Relecture des fiches Robe Cardamone (Deer and Doe)
A6: Cours Artesane
A7: Couture et patronage | B7: Savoir lire une gamme de montage/fabrication | D7: Fiches sur le langage industriel (cours 432Hz couture) | E7: Poches | F7: Coutures Pattes de boutonnage Empiècements | G7: Trouver un atelier pour entraînement sur machines Cols Manches Parementures et doublures | H7: Fermetures à glissières Braguettes Ceintures Plis et fentes | I7: Patronage
A8: Dessin Arts appliqués | E8: Entraînement | F8: Entraînement | G8: Entraînement | H8: Entraînement | I8: Entraînement
A9: Histoire de la mode | B9: Faire des fiches | C9: Faire des fiches
A10: Technologie des tissus et materiel | D10: Faire des fiches | E10: Faire des fiches | F10: Faire des fiches
A11: Hygiène Vie Sociale Secourisme | G11: Faire des fiches | H11: Faire des fiches

Sheet Couture
A3: Octobre-novembre | B3: Chemise (sur mesure)
A4: Décembre | B4: Manteau Ernest (République du Chiffon)
A5: Janvier | B5: Jupe longue asymétrique à volants (dp studio)
A6: Février | B6: Jupe Frankie (République du Chiffon)
A7: Mars | B7: Emma (Coralie Bijasson)
A8: Avril | B8: Liquette à fronces et à plis (dp studio)
A9: Mai | B9: Robe Cardamone (Deer and Doe)
A15: Tome 1 | B15: Coutures | F15: Pattes de boutonnage | J15: Empiècement
B16: Couture simple ouverte et surfilée | F16: Boutons et boutonnières | J16: Empiècement en application
B17: Couture simple couchée et surfilée | F17: Patte de boutonnage | J17: Empiècement en inscrustation
B18: Couture simple avec surpiqûre simple | F18: Patte de boutonnage cachée | J18: Doublage d'empiècement en fourreau
B19: Couture simple avec surpiqûre nervure | F19: Patte américaine
B20: Couture simple avec surpiqûre double | F20: Gorge de boutonage
B21: Couture anglaise | F21: Gorge de boutonage cachée
B22: Couture rabattue | F22: Patte de boutons
B23: Couture rabattue dressée ou fausse couture anglaise | F23: Patte de polo
B24: Couture ourlée | F24: Patte de boutonnage d'entrejambe
B25: Couture décalée au cornet | F25: Pont et boutonnage milieu dos
B26: Coupe et assemblage de pied à cheval | F26: Fente indéchirable
B27: Pose de biais à cheval | F27: Patte capucin
B28: Biais d'ourlet de vêtement ou faux ourlet | F28: Patte chemisier avec faux ourlet
B29: Renfort d'angle | F29: Patte de boutonnage en une pièce
B30: Préparation de coutures retournées | F30: Patte de boutonnage en deux pièces
B31: Ourlet rempli double
B32: Ourlet mouchoir
B33: Ourlet rempli surfilé
B34: Ourlet invisible
B35: Fronçage
A39: Tome 2 | B39: Poches plaquées | F39: Poches dans les coutures | J39: Poches fendues
B40: Poche plaquée | F40: Poche poitrine jean | J40: Poche fendue zipée
B41: Poche plaquée avec rabat | F41: Poche quart de rond jeans | J41: Poche passepoilée zipée
B42: Poche plaquée avec rabat et pli creux | F42: Poche italienne | J42: Poche passepoilée double
B43: Poche plaquée à soufflet avec rabat | F43: Poche dans une couture | J43: Poche paysanne
B44: Poche plaquée en fourreau | F44: Poche dans découpe avec parement | J44: Poche raglan
J45: Poche gilet
A48: Tome 3 | B48: Fermetures à glissière | F48: Braguettes | J48: Ceintures | N48: Plis et fentes
B49: Zip bord à bord | F49: Braguette avec zip sans sous-pont | J49: Ceinture rabattue en forme sur l'envers avec surpli | N49: Plis ronds (lâchés, piqués et surpiqués)
B50: Zip à l'américaine | F50: Braguette avec zip et sous-pont | J50: Ceinture rabattue droite sur l'endroit avec piqûre nervure | N50: Plis creux (lâchés, piqués et surpiqués)
B51: Zip invisible | F51: Braguette à boutons pour pantalon jean | J51: Ceinture rabattue droite avec sillon sur l'endroit | N51: Pli fente non doublée
B52: Sections de zips apparents milieu devant | F52: Braguette avec zip et sous-pont et ceinture hausse ou ceinture anglaise | J52: Ceinture avec passants | N52: Pli fente non doublée avec milieu dos couture au cornet
...

Sheet Octobre
G1: Au programme
E2: Lundi | F2: 43374
B3: ='Général'!B3 -> Octobre | E3: mardi | F3: 43375
A4: ='Général'!A4 -> Administration | B4: ='Général'!B4 -> Fiches sur les épreuves 12/10 : Inscription | E4: mercredi | F4: 43376
A5: ='Général'!A5 -> Entraînement | B5: ='Général'!B5 | E5: jeudi | F5: 43377
A6: ='Général'!A7 -> Couture et patronage | B6: ='Général'!B7 -> Savoir lire une gamme de montage/fabrication | E6: vendredi | F6: 43378
A7: ='Général'!A8 -> Dessin Arts appliqués | B7: ='Général'!D8 | E7: samedi | F7: 43379
A8: ='Général'!A9 -> Histoire de la mode | B8: ='Général'!B9 -> Faire des fiches | E8: dimanche | F8: 43380
A9: ='Général'!A10 -> Technologie des tissus et materiel | B9: ='Général'!B10 | E9: lundi | F9: 43381
A10: ='Général'!A11 -> Hygiène Vie Sociale Secourisme | B10: ='Général'!B11 | E10: mardi | F10: 43382
E11: mercredi | F11: 43383
E12: jeudi | F12: 43384
E13: vendredi | F13: 43385
E14: samedi | F14: 43386
E15: dimanche | F15: 43387
E16: lundi | F16: 43388
E17: mardi | F17: 43389
E18: mercredi | F18: 43390
E19: jeudi | F19: 43391
E20: vendredi | F20: 43392
E21: samedi | F21: 43393
E22: dimanche | F22: 43394
... E32: mercredi | F32: 43404

Sheet Novembre
G1: Au programme
E2: jeudi | F2: 43405
B3: ='Général'!C3 -> Novembre | E3: vendredi | F3: 43406
A4: ='Général'!A4 -> Administration | B4: ='Général'!C4 -> 23/11 : Date limite envoi du dossier | E4: samedi | F4: 43407
A5: ='Général'!A5 -> Entraînement | B5: ='Général'!C5 -> Chemise (sur mesure) | E5: dimanche | F5: 43408
A6: ='Général'!A7 -> Couture et patronage | B6: ='Général'!C7 | E6: lundi | F6: 43409
A7: ='Général'!A8 -> Dessin Arts appliqués | B7: ='Général'!D8 | E7: mardi | F7: 43410
A8: ='Général'!A9 -> Histoire de la mode | B8: ='Général'!C9 -> Faire des fiches | E8: mercredi | F8: 43411
A9: ='Général'!A10 -> Technologie des tissus et materiel | B9: ='Général'!C10 | E9: jeudi | F9: 43412
A10: ='Général'!A11 -> Hygiène Vie Sociale Secourisme | B10: ='Général'!C11 | E10: vendredi | F10: 43413
E11: samedi | F11: 43414
E12: dimanche | F12: 43415
E13: lundi | F13: 43416
E14: mardi | F14: 43417
E15: mercredi | F15: 43418
E16: jeudi | F16: 43419
E17: vendredi | F17: 43420
E18: samedi | F18: 43421
E19: dimanche | F19: 43422
E20: lundi | F20: 43423
E21: mardi | F21: 43424
E22: mercredi | F22: 43425
... E31: vendredi | F31: 43434

Sheet Décembre 
G1: Au programme
E2: samedi | F2: 43435
B3: Décembre | E3: dimanche | F3: 43436
A4: ='Général'!A4 -> Administration | B4: ='Général'!D4 | E4: lundi | F4: 43437
A5: ='Général'!A5 -> Entraînement | B5: ='Général'!D5 -> Ernest de RDC | E5: mardi | F5: 43438
A6: ='Général'!A7 -> Couture et patronage | B6: ='Général'!D7 -> Fiches sur le langage industriel (cours 432Hz couture) | E6: mercredi | F6: 43439
A7: ='Général'!A8 -> Dessin Arts appliqués | B7: ='Général'!D8 | E7: jeudi | F7: 43440
A8: ='Général'!A9 -> Histoire de la mode | B8: ='Général'!D9 | E8: vendredi | F8: 43441
A9: ='Général'!A10 -> Technologie des tissus et materiel | B9: ='Général'!D10 -> Faire des fiches | E9: samedi | F9: 43442
A10: ='Général'!A11 -> Hygiène Vie Sociale Secourisme | B10: ='Général'!D11 | E10: dimanche | F10: 43443
E11: lundi | F11: 43444
E12: mardi | F12: 43445
E13: mercredi | F13: 43446
E14: jeudi | F14: 43447
E15: vendredi | F15: 43448
E16: samedi | F16: 43449 | G16: Entraînement Manteau Ernest
E17: dimanche | F17: 43450
E18: lundi | F18: 43451
E19: mardi | F19: 43452
E20: mercredi | F20: 43453
E21: jeudi | F21: 43454
E22: vendredi | F22: 43455
E23: samedi | F23: 43456 | G23: Entraînement Manteau Ernest
E24: dimanche | F24: 43457
E25: lundi | F25: 43458
E26: mardi | F26: 43459
E27: mercredi | F27: 43460
E28: jeudi | F28: 43461
E29: vendredi | F29: 43462
E30: samedi | F30: 43463
E31: dimanche | F31: 43464
E32: lundi | F32: 43465

Sheet Janvier
G1: Au programme
E2: mardi | F2: 43466
B3: Janvier | E3: mercredi | F3: 43467
A4: ='Général'!A4 -> Administration | B4: ='Général'!E4 -> Inscription Technique des détails CMA du 8 au 24 janvier | E4: jeudi | F4: 43468
A5: ='Général'!A5 -> Entraînement | B5: ='Général'!E5 -> Jupe longue asymétrique à volants (dp studio) | E5: vendredi | F5: 43469
A6: ='Général'!A7 -> Couture et patronage | B6: ='Général'!E7 -> Poches | E6: samedi | F6: 43470
A7: ='Général'!A8 -> Dessin Arts appliqués | B7: ='Général'!E8 -> Entraînement | E7: dimanche | F7: 43471
A8: ='Général'!A9 -> Histoire de la mode | B8: ='Général'!E9 | E8: lundi | F8: 43472 | G8: Entraînement EP2
A9: ='Général'!A10 -> Technologie des tissus et materiel | B9: ='Général'!E10 -> Faire des fiches | E9: mardi | F9: 43473
A10: ='Général'!A11 -> Hygiène Vie Sociale Secourisme | B10: ='Général'!E11 | E10: mercredi | F10: 43474
E11: jeudi | F11: 43475
E12: vendredi | F12: 43476 | G12: Cours Artesane
E13: samedi | F13: 43477
E14: dimanche | F14: 43478
E15: lundi | F15: 43479
E16: mardi | F16: 43480
E17: mercredi | F17: 43481
E18: jeudi | F18: 43482
E19: vendredi | F19: 43483 | G19: Cours Artesane
E20: samedi | F20: 43484
E21: dimanche | F21: 43485
E22: lundi | F22: 43486 | G22: Entraînement EP2
E23: mardi | F23: 43487
E24: mercredi | F24: 43488
E25: jeudi | F25: 43489
E26: vendredi | F26: 43490 | G26: Cours Artesane
E27: samedi | F27: 43491
E28: dimanche | F28: 43492
E29: lundi | F29: 43493
E30: mardi | F30: 43494
E31: mercredi | F31: 43495
E32: jeudi | F32: 43496

Sheet Février
G1: Au programme
E2: vendredi | F2: 43497 | G2: Cours Artesane
B3: Février | E3: samedi | F3: 43498
A4: ='Général'!A4 -> Administration | B4: ='Général'!F4 | E4: dimanche | F4: 43499
A5: ='Général'!A5 -> Entraînement | B5: ='Général'!F5 -> Annales EP1 Jupe Frankie (RDC) | E5: lundi | F5: 43500 | G5: Entraînement EP2
A6: ='Général'!A7 -> Couture et patronage | B6: ='Général'!F7 -> Coutures Pattes de boutonnage Empiècements | E6: mardi | F6: 43501
A7: ='Général'!A8 -> Dessin Arts appliqués | B7: ='Général'!F8 -> Entraînement | E7: mercredi | F7: 43502
A8: ='Général'!A9 -> Histoire de la mode | B8: ='Général'!F9 | E8: jeudi | F8: 43503
A9: ='Général'!A10 -> Technologie des tissus et materiel | B9: ='Général'!F10 -> Faire des fiches | E9: vendredi | F9: 43504 | G9: Cours Artesane
A10: ='Général'!A11 -> Hygiène Vie Sociale Secourisme | B10: ='Général'!F11 | E10: samedi | F10: 43505
E11: dimanche | F11: 43506
E12: lundi | F12: 43507
E13: mardi | F13: 43508
E14: mercredi | F14: 43509
E15: jeudi | F15: 43510
E16: vendredi | F16: 43511 | G16: Cours Artesane
E17: samedi | F17: 43512
E18: dimanche | F18: 43513
E19: lundi | F19: 43514 | G19: Entraînement EP2
E20: mardi | F20: 43515
E21: mercredi | F21: 43516
E22: jeudi | F22: 43517
E23: vendredi | F23: 43518 | G23: Entrainement EP1
E24: samedi | F24: 43519
E25: dimanche | F25: 43520 | G25: Cours Artesane
E26: lundi | F26: 43521
E27: mardi | F27: 43522
E28: mercredi | F28: 43523
E29: jeudi | F29: 43524

Sheet Mars
G1: Au programme
E2: vendredi | F2: 43525 | G2: Cours Artesane
B3: Mars | E3: samedi | F3: 43526 | G3: Footing
A4: ='Général'!A4 -> Administration | B4: ='Général'!G4 | E4: dimanche | F4: 43527
A5: ='Général'!A5 -> Entraînement | B5: ='Général'!G5 -> Annales EP1 Emma (Coralie Bijasson) | E5: lundi | F5: 43528 | G5: Entraînement EP2
A6: ='Général'!A7 -> Couture et patronage | B6: ='Général'!G7 -> Trouver un atelier pour entraînement sur machines Cols Manches Parementures et doublures | E6: mardi | F6: 43529
A7: ='Général'!A8 -> Dessin Arts appliqués | B7: ='Général'!G8 -> Entraînement | E7: mercredi | F7: 43530
A8: ='Général'!A9 -> Histoire de la mode | B8: ='Général'!G9 | E8: jeudi | F8: 43531
A9: ='Général'!A10 -> Technologie des tissus et materiel | B9: ='Général'!G10 | E9: vendredi | F9: 43532 | G9: Cours Artesane Footing
A10: ='Général'!A11 -> Hygiène Vie Sociale Secourisme | B10: ='Général'!G11 -> Faire des fiches | E10: samedi | F10: 43533
E11: dimanche | F11: 43534
E12: lundi | F12: 43535
E13: mardi | F13: 43536
E14: mercredi | F14: 43537
E15: jeudi | F15: 43538
E16: vendredi | F16: 43539 | G16: Cours Artesane
E17: samedi | F17: 43540 | G17: Footing
E18: dimanche | F18: 43541
E19: lundi | F19: 43542 | G19: Entraînement EP2
E20: mardi | F20: 43543
E21: mercredi | F21: 43544
E22: jeudi | F22: 43545
E23: vendredi | F23: 43546 | G23: Entraînement EP1
E24: samedi | F24: 43547
E25: dimanche | F25: 43548 | G25: Cours Artesane Footing
E26: lundi | F26: 43549
E27: mardi | F27: 43550
E28: mercredi | F28: 43551
E29: jeudi | F29: 43552
E30: vendredi | F30: 43553 | G30: Cours Artesane
E31: samedi | F31: 43554 | G31: Footing
E32: dimanche | F32: 43555

Sheet Avril
G1: Au programme
E2: lundi | F2: 43556 | G2: Entraînement EP2
B3: Avril | E3: mardi | F3: 43557
A4: ='Général'!A4 -> Administration | B4: ='Général'!H4 | E4: mercredi | F4: 43558
A5: ='Général'!A5 -> Entraînement | B5: ='Général'!H5 -> Annales EP1 Relecture des fiches Liquette à fronces et à plis (dp studio) | E5: jeudi | F5: 43559
A6: ='Général'!A7 -> Couture et patronage | B6: ='Général'!H7 -> Fermetures à glissières Braguettes Ceintures Plis et fentes | E6: vendredi | F6: 43560 | G6: Cours Artesane Footing
A7: ='Général'!A8 -> Dessin Arts appliqués | B7: ='Général'!H8 -> Entraînement | E7: samedi | F7: 43561
A8: ='Général'!A9 -> Histoire de la mode | B8: ='Général'!H9 | E8: dimanche | F8: 43562
A9: ='Général'!A10 -> Technologie des tissus et materiel | B9: ='Général'!H10 | E9: lundi | F9: 43563
A10: ='Général'!A11 -> Hygiène Vie Sociale Secourisme | B10: ='Général'!H11 -> Faire des fiches | E10: mardi | F10: 43564
E11: mercredi | F11: 43565
E12: jeudi | F12: 43566
E13: vendredi | F13: 43567 | G13: Cours Artesane
E14: samedi | F14: 43568 | G14: Footing
E15: dimanche | F15: 43569
E16: lundi | F16: 43570 | G16: Entraînement EP2
E17: mardi | F17: 43571
E18: mercredi | F18: 43572
E19: jeudi | F19: 43573
E20: vendredi | F20: 43574 | G20: Entraînement EP1 Footing
E21: samedi | F21: 43575
E22: dimanche | F22: 43576 | G22: Cours Artesane
E23: lundi | F23: 43577
E24: mardi | F24: 43578
E25: mercredi | F25: 43579
E26: jeudi | F26: 43580
E27: vendredi | F27: 43581 | G27: Cours Artesane
E28: samedi | F28: 43582 | G28: Footing
E29: dimanche | F29: 43583
E30: lundi | F30: 43584
E31: mardi | F31: 43585

Sheet Mai
G1: Au programme
E2: mercredi | F2: 43586
B3: Mai | E3: jeudi | F3: 43587
A4: ='Général'!A4 -> Administration | B4: ='Général'!I4 | E4: vendredi | F4: 43588 | G4: Footing
A5: ='Général'!A5 -> Entraînement | B5: ='Général'!I5 -> Annales EP1 et PSE Relecture des fiches Robe Cardamone (Deer and Doe) | E5: samedi | F5: 43589
A6: ='Général'!A7 -> Couture et patronage | B6: ='Général'!I7 -> Patronage | E6: dimanche | F6: 43590
A7: ='Général'!A8 -> Dessin Arts appliqués | B7: ='Général'!I8 -> Entraînement | E7: lundi | F7: 43591
A8: ='Général'!A9 -> Histoire de la mode | B8: ='Général'!I9 | E8: mardi | F8: 43592
A9: ='Général'!A10 -> Technologie des tissus et materiel | B9: ='Général'!I10 | E9: mercredi | F9: 43593
A10: ='Général'!A11 -> Hygiène Vie Sociale Secourisme | B10: ='Général'!I11 | E10: jeudi | F10: 43594
E11: vendredi | F11: 43595
E12: samedi | F12: 43596 | G12: Footing
E13: dimanche | F13: 43597
E14: lundi | F14: 43598 | G14: Entraînement EP2
E15: mardi | F15: 43599
E16: mercredi | F16: 43600
E17: jeudi | F17: 43601
E18: vendredi | F18: 43602 | G18: Footing
E19: samedi | F19: 43603
E20: dimanche | F20: 43604
E21: lundi | F21: 43605
E22: mardi | F22: 43606
E23: mercredi | F23: 43607
E24: jeudi | F24: 43608
E25: vendredi | F25: 43609
E26: samedi | F26: 43610 | G26: Footing
E27: dimanche | F27: 43611
E28: lundi | F28: 43612 | G28: Entraînement EP2
E29: mardi | F29: 43613
E30: mercredi | F30: 43614
E31: jeudi | F31: 43615
E32: vendredi | F32: 43616 | G32: Entraînement EP1

Sheet Juin
G1: Au programme
E2: samedi | F2: 43617
B3: Juin | E3: dimanche | F3: 43618 | G3: Footing
A4: ='Général'!A4 -> Administration | B4: ='Général'!J4 -> Epreuves | E4: lundi | F4: 43619
A5: ='Général'!A5 -> Entraînement | B5: ='Général'!J5 | E5: mardi | F5: 43620
A6: ='Général'!A7 -> Couture et patronage | B6: ='Général'!J7 | E6: mercredi | F6: 43621
A7: ='Général'!A8 -> Dessin Arts appliqués | B7: ='Général'!J8 | E7: jeudi | F7: 43622
A8: ='Général'!A9 -> Histoire de la mode | B8: ='Général'!J9 | E8: vendredi | F8: 43623
A9: ='Général'!A10 -> Technologie des tissus et materiel | B9: ='Général'!J10 | E9: samedi | F9: 43624
A10: ='Général'!A11 -> Hygiène Vie Sociale Secourisme | B10: ='Général'!J11 | E10: dimanche | F10: 43625
E11: lundi | F11: 43626
E12: mardi | F12: 43627
E13: mercredi | F13: 43628
E14: jeudi | F14: 43629
E15: vendredi | F15: 43630
E16: samedi | F16: 43631
E17: dimanche | F17: 43632
E18: lundi | F18: 43633
E19: mardi | F19: 43634
E20: mercredi | F20: 43635
E21: jeudi | F21: 43636
E22: vendredi | F22: 43637
... E31: dimanche | F31: 43646
